BEGIN:VCALENDAR
VERSION:2.0
PRODID:-//WASFR - ECPv4.6.23//NONSGML v1.0//EN
CALSCALE:GREGORIAN
METHOD:PUBLISH
X-WR-CALNAME:WASFR
X-ORIGINAL-URL:http://wasfr.org.au
X-WR-CALDESC:Events for WASFR
BEGIN:VEVENT
DTSTART;TZID=Australia/Perth:20210312T100000
DTEND;TZID=Australia/Perth:20210312T120000
DTSTAMP:20210224T154047
CREATED:20201107T062044Z
LAST-MODIFIED:20210113T222607Z
UID:209-1615543200-1615550400@wasfr.org.au
SUMMARY:Douglas Crockett  Intelligent Homes - How to stay longer and safer in your own home
DESCRIPTION:
URL:http://wasfr.org.au/event/12th-march-2020/
END:VEVENT
BEGIN:VEVENT
DTSTART;TZID=Australia/Perth:20210409T100000
DTEND;TZID=Australia/Perth:20210409T120000
DTSTAMP:20210224T154047
CREATED:20201107T062230Z
LAST-MODIFIED:20201107T063044Z
UID:211-1617962400-1617969600@wasfr.org.au
SUMMARY:Rowan Jones - the Financial Implications of Coronavirus one year on
DESCRIPTION:
URL:http://wasfr.org.au/event/9th-april-2020/
END:VEVENT
BEGIN:VEVENT
DTSTART;TZID=Australia/Perth:20210514T100000
DTEND;TZID=Australia/Perth:20210514T120000
DTSTAMP:20210224T154047
CREATED:20201107T062334Z
LAST-MODIFIED:20201107T063104Z
UID:213-1620986400-1620993600@wasfr.org.au
SUMMARY:Tony McGrath - The History of Aviation in Western Australia
DESCRIPTION:
URL:http://wasfr.org.au/event/14th-may-2020/
END:VEVENT
BEGIN:VEVENT
DTSTART;TZID=Australia/Perth:20210611T100000
DTEND;TZID=Australia/Perth:20210611T120000
DTSTAMP:20210224T154047
CREATED:20201107T062501Z
LAST-MODIFIED:20201107T063130Z
UID:215-1623405600-1623412800@wasfr.org.au
SUMMARY:Steven Marcuson - The Bunting Quest
DESCRIPTION:
URL:http://wasfr.org.au/event/11th-june-2020/
END:VEVENT
END:VCALENDAR