BEGIN:VCALENDAR
VERSION:2.0
PRODID:-//WASFR - ECPv4.6.23//NONSGML v1.0//EN
CALSCALE:GREGORIAN
METHOD:PUBLISH
X-WR-CALNAME:WASFR
X-ORIGINAL-URL:http://wasfr.org.au
X-WR-CALDESC:Events for WASFR
BEGIN:VEVENT
DTSTART;TZID=Australia/Perth:20180309T110000
DTEND;TZID=Australia/Perth:20180309T170000
DTSTAMP:20200229T013841
CREATED:20180924T063306Z
LAST-MODIFIED:20180924T063521Z
UID:82-1520593200-1520614800@wasfr.org.au
SUMMARY:Dr Julian Bolleter\, "Take me to the River"
DESCRIPTION:Guest Speaker – Dr Julian Bolleter\, “Take me to the River” (The Swan River). \n
URL:http://wasfr.org.au/event/dr-julian-bolleter-take-me-to-the-river/
CATEGORIES:Meetings
END:VEVENT
END:VCALENDAR